BEGIN:VCALENDAR
VERSION:2.0
PRODID:-//Squash Arena &amp; Club Uster - ECPv6.15.20//NONSGML v1.0//EN
CALSCALE:GREGORIAN
METHOD:PUBLISH
X-ORIGINAL-URL:https://squash-arena.ch
X-WR-CALDESC:Veranstaltungen für Squash Arena &amp; Club Uster
REFRESH-INTERVAL;VALUE=DURATION:PT1H
X-Robots-Tag:noindex
X-PUBLISHED-TTL:PT1H
BEGIN:VTIMEZONE
TZID:Europe/Zurich
BEGIN:DAYLIGHT
TZOFFSETFROM:+0100
TZOFFSETTO:+0200
TZNAME:CEST
DTSTART:20220327T010000
END:DAYLIGHT
BEGIN:STANDARD
TZOFFSETFROM:+0200
TZOFFSETTO:+0100
TZNAME:CET
DTSTART:20221030T010000
END:STANDARD
BEGIN:DAYLIGHT
TZOFFSETFROM:+0100
TZOFFSETTO:+0200
TZNAME:CEST
DTSTART:20230326T010000
END:DAYLIGHT
BEGIN:STANDARD
TZOFFSETFROM:+0200
TZOFFSETTO:+0100
TZNAME:CET
DTSTART:20231029T010000
END:STANDARD
BEGIN:DAYLIGHT
TZOFFSETFROM:+0100
TZOFFSETTO:+0200
TZNAME:CEST
DTSTART:20240331T010000
END:DAYLIGHT
BEGIN:STANDARD
TZOFFSETFROM:+0200
TZOFFSETTO:+0100
TZNAME:CET
DTSTART:20241027T010000
END:STANDARD
END:VTIMEZONE
BEGIN:VEVENT
DTSTART;TZID=Europe/Zurich:20230506T093000
DTEND;TZID=Europe/Zurich:20230506T190000
DTSTAMP:20260422T121629
CREATED:20230310T202346Z
LAST-MODIFIED:20230310T202346Z
UID:927-1683365400-1683399600@squash-arena.ch
SUMMARY:Squash !T (Juniorenturnier)
DESCRIPTION:
URL:https://squash-arena.ch/event/squash-t-juniorenturnier/
LOCATION:Squash Arena Uster\, Hallenbadweg 2\, Uster\, Zürich\, 8610\, Schweiz
END:VEVENT
BEGIN:VEVENT
DTSTART;TZID=Europe/Zurich:20230507T093000
DTEND;TZID=Europe/Zurich:20230507T180000
DTSTAMP:20260422T121629
CREATED:20230310T202507Z
LAST-MODIFIED:20230310T202507Z
UID:929-1683451800-1683482400@squash-arena.ch
SUMMARY:Squash !T (Juniorenturnier)
DESCRIPTION:
URL:https://squash-arena.ch/event/squash-t-juniorenturnier-2/
LOCATION:Squash Arena Uster\, Hallenbadweg 2\, Uster\, Zürich\, 8610\, Schweiz
END:VEVENT
BEGIN:VEVENT
DTSTART;VALUE=DATE:20230527
DTEND;VALUE=DATE:20230529
DTSTAMP:20260422T121629
CREATED:20230429T063908Z
LAST-MODIFIED:20230429T063908Z
UID:980-1685145600-1685318399@squash-arena.ch
SUMMARY:StadtUsterSquashFestival
DESCRIPTION:
URL:https://squash-arena.ch/event/stadtustersquashfestival/
LOCATION:Squash Arena Uster\, Hallenbadweg 2\, Uster\, Zürich\, 8610\, Schweiz
ORGANIZER;CN="Rino Mathis":MAILTO:rinom@bluewin.ch
END:VEVENT
END:VCALENDAR