BEGIN:VCALENDAR
VERSION:2.0
PRODID:-//Squash Arena &amp; Club Uster - ECPv6.15.20//NONSGML v1.0//EN
CALSCALE:GREGORIAN
METHOD:PUBLISH
X-WR-CALNAME:Squash Arena &amp; Club Uster
X-ORIGINAL-URL:https://squash-arena.ch
X-WR-CALDESC:Veranstaltungen für Squash Arena &amp; Club Uster
REFRESH-INTERVAL;VALUE=DURATION:PT1H
X-Robots-Tag:noindex
X-PUBLISHED-TTL:PT1H
BEGIN:VTIMEZONE
TZID:Europe/Zurich
BEGIN:DAYLIGHT
TZOFFSETFROM:+0100
TZOFFSETTO:+0200
TZNAME:CEST
DTSTART:20230326T010000
END:DAYLIGHT
BEGIN:STANDARD
TZOFFSETFROM:+0200
TZOFFSETTO:+0100
TZNAME:CET
DTSTART:20231029T010000
END:STANDARD
BEGIN:DAYLIGHT
TZOFFSETFROM:+0100
TZOFFSETTO:+0200
TZNAME:CEST
DTSTART:20240331T010000
END:DAYLIGHT
BEGIN:STANDARD
TZOFFSETFROM:+0200
TZOFFSETTO:+0100
TZNAME:CET
DTSTART:20241027T010000
END:STANDARD
BEGIN:DAYLIGHT
TZOFFSETFROM:+0100
TZOFFSETTO:+0200
TZNAME:CEST
DTSTART:20250330T010000
END:DAYLIGHT
BEGIN:STANDARD
TZOFFSETFROM:+0200
TZOFFSETTO:+0100
TZNAME:CET
DTSTART:20251026T010000
END:STANDARD
END:VTIMEZONE
BEGIN:VEVENT
DTSTART;VALUE=DATE:20240102
DTEND;VALUE=DATE:20240106
DTSTAMP:20260423T194237
CREATED:20230920T211707Z
LAST-MODIFIED:20231107T200256Z
UID:1317-1704153600-1704499199@squash-arena.ch
SUMMARY:Wintertrainingslager
DESCRIPTION:
URL:https://squash-arena.ch/event/wintertrainingslager/
LOCATION:Squash Arena Uster\, Hallenbadweg 2\, Uster\, Zürich\, 8610\, Schweiz
END:VEVENT
BEGIN:VEVENT
DTSTART;TZID=Europe/Zurich:20240106T100000
DTEND;TZID=Europe/Zurich:20240106T230000
DTSTAMP:20260423T194237
CREATED:20230920T211922Z
LAST-MODIFIED:20230920T211922Z
UID:1325-1704535200-1704582000@squash-arena.ch
SUMMARY:Damen NLA Qualifikation / Ladies Team Cup
DESCRIPTION:
URL:https://squash-arena.ch/event/damen-nla-qualifikation-ladies-team-cup-3/
LOCATION:Squash Arena Uster\, Hallenbadweg 2\, Uster\, Zürich\, 8610\, Schweiz
END:VEVENT
BEGIN:VEVENT
DTSTART;TZID=Europe/Zurich:20240107T080000
DTEND;TZID=Europe/Zurich:20240107T170000
DTSTAMP:20260423T194237
CREATED:20230920T211952Z
LAST-MODIFIED:20230920T211952Z
UID:1327-1704614400-1704646800@squash-arena.ch
SUMMARY:Ladies Team Cup
DESCRIPTION:
URL:https://squash-arena.ch/event/ladies-team-cup/
LOCATION:Squash Arena Uster\, Hallenbadweg 2\, Uster\, Zürich\, 8610\, Schweiz
END:VEVENT
END:VCALENDAR