BEGIN:VCALENDAR
VERSION:2.0
PRODID:-//Squash Arena &amp; Club Uster - ECPv6.15.20//NONSGML v1.0//EN
CALSCALE:GREGORIAN
METHOD:PUBLISH
X-WR-CALNAME:Squash Arena &amp; Club Uster
X-ORIGINAL-URL:https://squash-arena.ch
X-WR-CALDESC:Veranstaltungen für Squash Arena &amp; Club Uster
REFRESH-INTERVAL;VALUE=DURATION:PT1H
X-Robots-Tag:noindex
X-PUBLISHED-TTL:PT1H
BEGIN:VTIMEZONE
TZID:Europe/Zurich
BEGIN:DAYLIGHT
TZOFFSETFROM:+0100
TZOFFSETTO:+0200
TZNAME:CEST
DTSTART:20230326T010000
END:DAYLIGHT
BEGIN:STANDARD
TZOFFSETFROM:+0200
TZOFFSETTO:+0100
TZNAME:CET
DTSTART:20231029T010000
END:STANDARD
BEGIN:DAYLIGHT
TZOFFSETFROM:+0100
TZOFFSETTO:+0200
TZNAME:CEST
DTSTART:20240331T010000
END:DAYLIGHT
BEGIN:STANDARD
TZOFFSETFROM:+0200
TZOFFSETTO:+0100
TZNAME:CET
DTSTART:20241027T010000
END:STANDARD
BEGIN:DAYLIGHT
TZOFFSETFROM:+0100
TZOFFSETTO:+0200
TZNAME:CEST
DTSTART:20250330T010000
END:DAYLIGHT
BEGIN:STANDARD
TZOFFSETFROM:+0200
TZOFFSETTO:+0100
TZNAME:CET
DTSTART:20251026T010000
END:STANDARD
END:VTIMEZONE
BEGIN:VEVENT
DTSTART;VALUE=DATE:20240308
DTEND;VALUE=DATE:20240310
DTSTAMP:20260423T230219
CREATED:20230920T212042Z
LAST-MODIFIED:20231107T200238Z
UID:1329-1709856000-1710028799@squash-arena.ch
SUMMARY:NLA Playoffs 23/24
DESCRIPTION:
URL:https://squash-arena.ch/event/nla-playoffs-23-24/
LOCATION:Squash Arena Uster\, Hallenbadweg 2\, Uster\, Zürich\, 8610\, Schweiz
END:VEVENT
BEGIN:VEVENT
DTSTART;TZID=Europe/Zurich:20240323T090000
DTEND;TZID=Europe/Zurich:20240323T140000
DTSTAMP:20260423T230219
CREATED:20231107T195938Z
LAST-MODIFIED:20231107T195938Z
UID:1450-1711184400-1711202400@squash-arena.ch
SUMMARY:Gummibärlicup (Junioren/Kids Plausch)
DESCRIPTION:
URL:https://squash-arena.ch/event/gummibaerlicup-junioren-kids-plausch-2/
LOCATION:Squash Arena Uster\, Hallenbadweg 2\, Uster\, Zürich\, 8610\, Schweiz
END:VEVENT
END:VCALENDAR