BEGIN:VCALENDAR
VERSION:2.0
PRODID:-//Squash Arena &amp; Club Uster - ECPv6.15.20//NONSGML v1.0//EN
CALSCALE:GREGORIAN
METHOD:PUBLISH
X-ORIGINAL-URL:https://squash-arena.ch
X-WR-CALDESC:Veranstaltungen für Squash Arena &amp; Club Uster
REFRESH-INTERVAL;VALUE=DURATION:PT1H
X-Robots-Tag:noindex
X-PUBLISHED-TTL:PT1H
BEGIN:VTIMEZONE
TZID:Europe/Zurich
BEGIN:DAYLIGHT
TZOFFSETFROM:+0100
TZOFFSETTO:+0200
TZNAME:CEST
DTSTART:20230326T010000
END:DAYLIGHT
BEGIN:STANDARD
TZOFFSETFROM:+0200
TZOFFSETTO:+0100
TZNAME:CET
DTSTART:20231029T010000
END:STANDARD
BEGIN:DAYLIGHT
TZOFFSETFROM:+0100
TZOFFSETTO:+0200
TZNAME:CEST
DTSTART:20240331T010000
END:DAYLIGHT
BEGIN:STANDARD
TZOFFSETFROM:+0200
TZOFFSETTO:+0100
TZNAME:CET
DTSTART:20241027T010000
END:STANDARD
BEGIN:DAYLIGHT
TZOFFSETFROM:+0100
TZOFFSETTO:+0200
TZNAME:CEST
DTSTART:20250330T010000
END:DAYLIGHT
BEGIN:STANDARD
TZOFFSETFROM:+0200
TZOFFSETTO:+0100
TZNAME:CET
DTSTART:20251026T010000
END:STANDARD
END:VTIMEZONE
BEGIN:VEVENT
DTSTART;VALUE=DATE:20241214
DTEND;VALUE=DATE:20241216
DTSTAMP:20260424T093850
CREATED:20240823T194514Z
LAST-MODIFIED:20240910T204812Z
UID:4422-1734134400-1734307199@squash-arena.ch
SUMMARY:Squash !T Uster
DESCRIPTION:
URL:https://squash-arena.ch/event/squash-it/
LOCATION:Squash Arena Uster\, Hallenbadweg 2\, Uster\, Zürich\, 8610\, Schweiz
END:VEVENT
BEGIN:VEVENT
DTSTART;VALUE=DATE:20241221
DTEND;VALUE=DATE:20241223
DTSTAMP:20260424T093850
CREATED:20240820T171140Z
LAST-MODIFIED:20240820T171140Z
UID:4390-1734739200-1734911999@squash-arena.ch
SUMMARY:PSA National Closed Herren
DESCRIPTION:
URL:https://squash-arena.ch/event/psa-national-closed-herren-4/
LOCATION:Squash Arena Uster\, Hallenbadweg 2\, Uster\, Zürich\, 8610\, Schweiz
ORGANIZER;CN="Rino Mathis":MAILTO:rinom@bluewin.ch
END:VEVENT
BEGIN:VEVENT
DTSTART;VALUE=DATE:20241228
DTEND;VALUE=DATE:20241230
DTSTAMP:20260424T093850
CREATED:20240910T205152Z
LAST-MODIFIED:20240910T205152Z
UID:4555-1735344000-1735516799@squash-arena.ch
SUMMARY:PSA Silvestertrophy Herren
DESCRIPTION:
URL:https://squash-arena.ch/event/psa-silvestertrophy-herren/
LOCATION:Squash Arena Uster\, Hallenbadweg 2\, Uster\, Zürich\, 8610\, Schweiz
ORGANIZER;CN="Rino Mathis":MAILTO:rinom@bluewin.ch
END:VEVENT
END:VCALENDAR