BEGIN:VCALENDAR
VERSION:2.0
PRODID:-//Squash Arena &amp; Club Uster - ECPv6.15.20//NONSGML v1.0//EN
CALSCALE:GREGORIAN
METHOD:PUBLISH
X-WR-CALNAME:Squash Arena &amp; Club Uster
X-ORIGINAL-URL:https://squash-arena.ch
X-WR-CALDESC:Veranstaltungen für Squash Arena &amp; Club Uster
REFRESH-INTERVAL;VALUE=DURATION:PT1H
X-Robots-Tag:noindex
X-PUBLISHED-TTL:PT1H
BEGIN:VTIMEZONE
TZID:Europe/Zurich
BEGIN:DAYLIGHT
TZOFFSETFROM:+0100
TZOFFSETTO:+0200
TZNAME:CEST
DTSTART:20240331T010000
END:DAYLIGHT
BEGIN:STANDARD
TZOFFSETFROM:+0200
TZOFFSETTO:+0100
TZNAME:CET
DTSTART:20241027T010000
END:STANDARD
BEGIN:DAYLIGHT
TZOFFSETFROM:+0100
TZOFFSETTO:+0200
TZNAME:CEST
DTSTART:20250330T010000
END:DAYLIGHT
BEGIN:STANDARD
TZOFFSETFROM:+0200
TZOFFSETTO:+0100
TZNAME:CET
DTSTART:20251026T010000
END:STANDARD
BEGIN:DAYLIGHT
TZOFFSETFROM:+0100
TZOFFSETTO:+0200
TZNAME:CEST
DTSTART:20260329T010000
END:DAYLIGHT
BEGIN:STANDARD
TZOFFSETFROM:+0200
TZOFFSETTO:+0100
TZNAME:CET
DTSTART:20261025T010000
END:STANDARD
END:VTIMEZONE
BEGIN:VEVENT
DTSTART;VALUE=DATE:20250531
DTEND;VALUE=DATE:20250602
DTSTAMP:20260424T191054
CREATED:20240820T171455Z
LAST-MODIFIED:20240820T171455Z
UID:4401-1748649600-1748822399@squash-arena.ch
SUMMARY:Junioren Schweizer Meisterschaft
DESCRIPTION:
URL:https://squash-arena.ch/event/junioren-schweizer-meisterschaft-2/
LOCATION:Squash Arena Uster\, Hallenbadweg 2\, Uster\, Zürich\, 8610\, Schweiz
ORGANIZER;CN="Rino Mathis":MAILTO:rinom@bluewin.ch
END:VEVENT
BEGIN:VEVENT
DTSTART;VALUE=DATE:20250621
DTEND;VALUE=DATE:20250622
DTSTAMP:20260424T191054
CREATED:20240820T171520Z
LAST-MODIFIED:20240820T171520Z
UID:4403-1750464000-1750550399@squash-arena.ch
SUMMARY:Skill Day/Clubmeisterschaft/Saisonabschl.
DESCRIPTION:
URL:https://squash-arena.ch/event/skill-day-clubmeisterschaft-saisonabschl-3/
LOCATION:Squash Arena Uster\, Hallenbadweg 2\, Uster\, Zürich\, 8610\, Schweiz
END:VEVENT
BEGIN:VEVENT
DTSTART;VALUE=DATE:20250622
DTEND;VALUE=DATE:20250623
DTSTAMP:20260424T191054
CREATED:20250304T193003Z
LAST-MODIFIED:20250328T133128Z
UID:6493-1750550400-1750636799@squash-arena.ch
SUMMARY:Erstes Squash Schülerturnier 2025
DESCRIPTION:Für alle SchülerInnen in und um Uster
URL:https://squash-arena.ch/event/erstes-squash-schuelerturnier-2025/
LOCATION:Squash Arena Uster\, Hallenbadweg 2\, Uster\, Zürich\, 8610\, Schweiz
ORGANIZER;CN="Oli Gutenberg":MAILTO:olisquash@hispeed.ch
END:VEVENT
END:VCALENDAR