BEGIN:VCALENDAR
VERSION:2.0
PRODID:-//Squash Arena &amp; Club Uster - ECPv6.15.20//NONSGML v1.0//EN
CALSCALE:GREGORIAN
METHOD:PUBLISH
X-ORIGINAL-URL:https://squash-arena.ch
X-WR-CALDESC:Veranstaltungen für Squash Arena &amp; Club Uster
REFRESH-INTERVAL;VALUE=DURATION:PT1H
X-Robots-Tag:noindex
X-PUBLISHED-TTL:PT1H
BEGIN:VTIMEZONE
TZID:Europe/Zurich
BEGIN:DAYLIGHT
TZOFFSETFROM:+0100
TZOFFSETTO:+0200
TZNAME:CEST
DTSTART:20240331T010000
END:DAYLIGHT
BEGIN:STANDARD
TZOFFSETFROM:+0200
TZOFFSETTO:+0100
TZNAME:CET
DTSTART:20241027T010000
END:STANDARD
BEGIN:DAYLIGHT
TZOFFSETFROM:+0100
TZOFFSETTO:+0200
TZNAME:CEST
DTSTART:20250330T010000
END:DAYLIGHT
BEGIN:STANDARD
TZOFFSETFROM:+0200
TZOFFSETTO:+0100
TZNAME:CET
DTSTART:20251026T010000
END:STANDARD
BEGIN:DAYLIGHT
TZOFFSETFROM:+0100
TZOFFSETTO:+0200
TZNAME:CEST
DTSTART:20260329T010000
END:DAYLIGHT
BEGIN:STANDARD
TZOFFSETFROM:+0200
TZOFFSETTO:+0100
TZNAME:CET
DTSTART:20261025T010000
END:STANDARD
END:VTIMEZONE
BEGIN:VEVENT
DTSTART;VALUE=DATE:20251108
DTEND;VALUE=DATE:20251110
DTSTAMP:20260425T023134
CREATED:20250916T073136Z
LAST-MODIFIED:20250916T073136Z
UID:8677-1762560000-1762732799@squash-arena.ch
SUMMARY:Swiss Squash U11/U13 Training/Sichtung
DESCRIPTION:
URL:https://squash-arena.ch/event/swiss-squash-u11-u13-training-sichtung/
LOCATION:Squash Arena Uster\, Hallenbadweg 2\, Uster\, Zürich\, 8610\, Schweiz
END:VEVENT
BEGIN:VEVENT
DTSTART;VALUE=DATE:20251109
DTEND;VALUE=DATE:20251110
DTSTAMP:20260425T023134
CREATED:20250916T073327Z
LAST-MODIFIED:20250916T073327Z
UID:8680-1762646400-1762732799@squash-arena.ch
SUMMARY:Damen NLA Spieltag
DESCRIPTION:
URL:https://squash-arena.ch/event/damen-nla-spieltag/
LOCATION:Squash Arena Uster\, Hallenbadweg 2\, Uster\, Zürich\, 8610\, Schweiz
ORGANIZER;CN="Rino Mathis":MAILTO:rinom@bluewin.ch
END:VEVENT
END:VCALENDAR